BEGIN:VCALENDAR
VERSION:2.0
PRODID:-//THE ART OF LIVING - ECPv6.10.1.1//NONSGML v1.0//EN
CALSCALE:GREGORIAN
METHOD:PUBLISH
X-WR-CALNAME:THE ART OF LIVING
X-ORIGINAL-URL:https://breathefy.com
X-WR-CALDESC:Events for THE ART OF LIVING
REFRESH-INTERVAL;VALUE=DURATION:PT1H
X-Robots-Tag:noindex
X-PUBLISHED-TTL:PT1H
BEGIN:VTIMEZONE
TZID:UTC
BEGIN:STANDARD
TZOFFSETFROM:+0000
TZOFFSETTO:+0000
TZNAME:UTC
DTSTART:20250101T000000
END:STANDARD
END:VTIMEZONE
BEGIN:VEVENT
DTSTART;TZID=UTC:20250315T180000
DTEND;TZID=UTC:20250315T200000
DTSTAMP:20260420T004008
CREATED:20250303T022901Z
LAST-MODIFIED:20250303T023412Z
UID:56-1742061600-1742068800@breathefy.com
SUMMARY:Transform Your Life with Breathwork
DESCRIPTION:Discover the power of evidence-based breathwork techniques to release stress\, boost energy\, and enhance mental clarity. This session is designed for both beginners and experienced practitioners. \n✅ Guided breathing exercises✅ Stress and anxiety reduction techniques✅ Live Q&A with expert facilitators
URL:https://breathefy.com/event/transform-your-life-with-breathwork/
LOCATION:Breathwork
ATTACH;FMTTYPE=image/jpeg:https://breathefy.com/wp-content/uploads/2025/03/full-shot-man-meditating-outdoors-scaled.jpg
END:VEVENT
END:VCALENDAR